BEGIN:VCALENDAR
VERSION:2.0
PRODID:-//wp-events-plugin.com//7.2.3.1//EN
TZID:Indian/Reunion
X-WR-TIMEZONE:Indian/Reunion
BEGIN:VEVENT
UID:49@974.formation-suf.com
DTSTART;TZID=Indian/Reunion:20260504T083000
DTEND;TZID=Indian/Reunion:20260504T120000
DTSTAMP:20260421T120401Z
URL:https://974.formation-suf.com/events/job-dating-x-fitness-park/
SUMMARY:Job Dating x FITNESS PARK
DESCRIPTION:Notre  partenaire\, FITNESS PARK recrute des alternants Employ
 és Polyvalents (H/F)\nOuverture de leur salle de sport sur Saint Denis : 
 IMMINENTE\n\nFormations souhaitées : Conseiller Vente (niv. Bac) ou Manag
 er d'Etablissement Marchand (niv. Bac +2)\n\nPostule en ligne !\nhttps://9
 74.formation-suf.com/employes-polyvalents-fitness-park-h-f-saint-denis/\n\
 nSi pré sélectionné.e\, tu pourras t'entretenir directement avec le rec
 ruteur lors de notre job dating du 4 mai\n\nps. pense à amener ton CV
ATTACH;FMTTYPE=image/jpeg:https://974.formation-suf.com/wp-content/uploads
 /2026/04/logo_fitness-park_grey_2020_fr-20260421-115907-scaled.jpg
CATEGORIES:Job Dating
LOCATION:Campus Suf Nord\, 2 Rue d'Emmerez de Charmoy\, \, Saint Denis\, 97
 490\, La Réunion
X-APPLE-STRUCTURED-LOCATION;VALUE=URI;X-ADDRESS=2 Rue d'Emmerez de Charmoy\
 , \, Saint Denis\, 97490\, La Réunion;X-APPLE-RADIUS=100;X-TITLE=Campus S
 uf Nord:geo:0,0
END:VEVENT
BEGIN:VTIMEZONE
TZID:Indian/Reunion
X-LIC-LOCATION:Indian/Reunion
BEGIN:STANDARD
DTSTART:20250504T083000
TZOFFSETFROM:+0400
TZOFFSETTO:+0400
TZNAME:+04
END:STANDARD
END:VTIMEZONE
END:VCALENDAR